BEGIN:VCALENDAR
VERSION:2.0
PRODID:-//wp-events-plugin.com//7.2.3.1//EN
TZID:America/Kentucky/Louisville
X-WR-TIMEZONE:America/Kentucky/Louisville
BEGIN:VEVENT
UID:273@nkff.org
DTSTART;TZID=America/Kentucky/Louisville:20210327T080000
DTEND;TZID=America/Kentucky/Louisville:20210327T180000
DTSTAMP:20210202T163033Z
URL:https://nkff.org/events/nkff-womens-fishing-introduction-day/
SUMMARY:NKFF Women's Fishing Introduction Day
DESCRIPTION:NKFF Local Women’s (+) Fly-Fishing Introduction Day Trip to W
 ayne’s friend’s pond in KY – KY Fishing License required – come ou
 t and learn to catch bluegill and bass. Please register for this event if 
 you want to attend\, location information will be emailed to registered pa
 rticipants.\n\nBring your own beverages and lunch or snacks.\n\nEmail Kerr
 y Premec with any questions.
CATEGORIES:Fishing Trips
END:VEVENT
BEGIN:VTIMEZONE
TZID:America/Kentucky/Louisville
X-LIC-LOCATION:America/Kentucky/Louisville
BEGIN:DAYLIGHT
DTSTART:20210314T030000
TZOFFSETFROM:-0500
TZOFFSETTO:-0400
TZNAME:EDT
END:DAYLIGHT
END:VTIMEZONE
END:VCALENDAR