BEGIN:VCALENDAR
VERSION:2.0
PRODID:-//wp-events-plugin.com//7.2.3.1//EN
TZID:America/Kentucky/Louisville
X-WR-TIMEZONE:America/Kentucky/Louisville
BEGIN:VEVENT
UID:532@nkff.org
DTSTART;TZID=America/Kentucky/Louisville:20221112T173000
DTEND;TZID=America/Kentucky/Louisville:20221112T213000
DTSTAMP:20221109T184126Z
URL:https://nkff.org/events/nkff-annual-fall-banquet/
SUMMARY:NKFF Annual Fall Banquet - Celebrating 35 Years
DESCRIPTION:NKFF Annual Fall Banquet &amp\; 35th Anniversary Celebration\nW
 hen: November 12\, 2022 from 6:00 p.m. - 10:00 p.m.\nWhere: St. Barbara's 
 Sterling Event Center\, 4042 Turkeyfoot Rd\, Erlanger\, KY 41018\nSt. Barb
 ara's Event Center is a new\, state of the art complex that holds 400 peop
 le very comfortably with plenty of room to spare and a top notch audio-vis
 ual system.\nThere will be live music before dinner.\nTake a look at the d
 inner menu HERE.\nAnd there will be raffles and auctions like you have nev
 er seen before. A list will be forthcoming soon.\nThis will be one of the 
 most exciting banquets NKFF has ever had.\nIn addition to registering and 
 paying online below\, you also have the option of mailing a check for the 
 total amount of your tickets to:\nNorthern Kentucky Fly Fishers\, Inc. (NK
 FF)\n2310 Buttermilk Crossing #1023\nCrescent Springs\, KY 41017\nThe cost
  is $40/person and $25 for children 12 years of age and under.\n\nIf you a
 ren’t a club member but would like to attend the banquet\, please use th
 is PayPal button to buy your tickets.\n\n\n\n\n\nNon Member Ticket Type\n\
 n\n\nAdult $40.00 USD\nChild 12 and under $25.00 USD\n\n\n\n\n\n\n\n\n\nPu
 rchase additional raffle tickets at the banquet.
ATTACH;FMTTYPE=image/jpeg:https://i0.wp.com/nkff.org/wp-content/uploads/20
 22/03/Featured-Image.png?fit=1030%2C438&ssl=1
CATEGORIES:Meetings
LOCATION:St Barbara’s Sterling Event Center\, 4042 Turkeyfoot Road\, Erla
 nger\, KY\, 41018\, United States
GEO:38.972766;-84.596932
X-APPLE-STRUCTURED-LOCATION;VALUE=URI;X-ADDRESS=4042 Turkeyfoot Road\, Erla
 nger\, KY\, 41018\, United States;X-APPLE-RADIUS=100;X-TITLE=St Barbara’
 s Sterling Event Center:geo:38.972766,-84.596932
END:VEVENT
BEGIN:VTIMEZONE
TZID:America/Kentucky/Louisville
X-LIC-LOCATION:America/Kentucky/Louisville
BEGIN:STANDARD
DTSTART:20221106T010000
TZOFFSETFROM:-0400
TZOFFSETTO:-0500
TZNAME:EST
END:STANDARD
END:VTIMEZONE
END:VCALENDAR