BEGIN:VCALENDAR
VERSION:2.0
PRODID:-//wp-events-plugin.com//7.2.3.1//EN
TZID:America/Kentucky/Louisville
X-WR-TIMEZONE:America/Kentucky/Louisville
BEGIN:VEVENT
UID:692@nkff.org
DTSTART;TZID=America/Kentucky/Louisville:20241003T170000
DTEND;TZID=America/Kentucky/Louisville:20241003T210000
DTSTAMP:20240913T144612Z
URL:https://nkff.org/events/monthly-meeting-2024-10-03/
SUMMARY:October Monthly Meeting - A Road Trip to Alaska
DESCRIPTION:You are not going to want to miss the story that Don Lambert wi
 ll share at the October 3rd NKFF monthly meeting.\n\nWith a fishing raft i
 n tow\, Don and his wife floated several rivers and lakes throughout Canad
 a\, Alaska and U.S. Much of the trip was tent camping.\n\nThis 3 month roa
 d trip from Northern Kentucky was highlighted by 51/2  weeks in Alaska. 
  Known for fishing\, glaciers\, the land of the midnight sun\, northern l
 ights\, national parks\, the arctic circle and so much more\, Alaska is re
 ferred to as the land of untouched wilderness.\n\nLearn about this adventu
 re at the Northern Kentucky Fly Fishers monthly meeting on October 3rd. On
 ce you hear about this trip\, you will want to start planning your own.\n\
 nYou can also send an email to reservations@nkff.org to register.\n\nBrin
 g a donation for the Banquet – something you would like to receive wheth
 er fishing related or not. If possible tag it with your name\, address\, 
 and value – if you want a tax receipt. We will set up an intake table at
  the meeting.
ATTACH;FMTTYPE=image/jpeg:https://i0.wp.com/nkff.org/wp-content/uploads/20
 23/12/IMG_3246.jpg?fit=1756%2C1220&ssl=1
CATEGORIES:Meetings
LOCATION:Florence Lion's Club\, 29 Lacresta\, Florence\, KY\, 41042\, Unite
 d States
GEO:38.97968300000001;-84.64029790000001
X-APPLE-STRUCTURED-LOCATION;VALUE=URI;X-ADDRESS=29 Lacresta\, Florence\, KY
 \, 41042\, United States;X-APPLE-RADIUS=100;X-TITLE=Florence Lion's Club:g
 eo:38.97968300000001,-84.64029790000001
END:VEVENT
BEGIN:VTIMEZONE
TZID:America/Kentucky/Louisville
X-LIC-LOCATION:America/Kentucky/Louisville
BEGIN:DAYLIGHT
DTSTART:20240310T030000
TZOFFSETFROM:-0500
TZOFFSETTO:-0400
TZNAME:EDT
END:DAYLIGHT
END:VTIMEZONE
END:VCALENDAR