BEGIN:VCALENDAR
VERSION:2.0
PRODID:-//wp-events-plugin.com//7.2.3.1//EN
TZID:America/Kentucky/Louisville
X-WR-TIMEZONE:America/Kentucky/Louisville
BEGIN:VEVENT
UID:691@nkff.org
DTSTART;TZID=America/Kentucky/Louisville:20240905T170000
DTEND;TZID=America/Kentucky/Louisville:20240905T210000
DTSTAMP:20240814T002114Z
URL:https://nkff.org/events/monthly-meeting-2024-09-05/
SUMMARY:September Monthly Meeting
DESCRIPTION:NKFF September 5 Meeting at New Day Ranch.  Our September meet
 ing will be a “Low Country Boil” done by the Club just for the fun of 
 it!  Potatoes\, small onions\, corn-on-the cob\, smoked sausage\, and shr
 imp.   Like a crawfish boil\, but it’s not crawfish season!  You may 
 be called upon to come early and help or stay late and help clean-up!\n\n 
 	$10 per person\n 	Bring a donation for the Banquet – something you woul
 d like to receive whether fishing related or not. If possible tag it with 
 your name\, address\, and value – if you want a tax receipt. We will set
  up an intake table at the meeting.\n 	Our guests will be live birds of pr
 ey (and their trainers) courtesy of the Kentucky Falconry Association\n 	M
 ake sure to register in advance so we know how much food to buy.\n\nSee yo
 u in September!\n\nIf you're a first time attendee you are invited to atte
 nd as our guest\, please email by Monday night and we'll get you on the li
 st
ATTACH;FMTTYPE=image/jpeg:https://i0.wp.com/nkff.org/wp-content/uploads/20
 23/12/IMG_4189.png?fit=1029%2C438&ssl=1
CATEGORIES:Meetings
LOCATION:New Day Ranch\, 14838 Rosenstiel Rd\, Verona\, KY\, 41092\, United
  States
GEO:38.823183;-84.667264
X-APPLE-STRUCTURED-LOCATION;VALUE=URI;X-ADDRESS=14838 Rosenstiel Rd\, Veron
 a\, KY\, 41092\, United States;X-APPLE-RADIUS=100;X-TITLE=New Day Ranch:ge
 o:38.823183,-84.667264
END:VEVENT
BEGIN:VTIMEZONE
TZID:America/Kentucky/Louisville
X-LIC-LOCATION:America/Kentucky/Louisville
BEGIN:DAYLIGHT
DTSTART:20240310T030000
TZOFFSETFROM:-0500
TZOFFSETTO:-0400
TZNAME:EDT
END:DAYLIGHT
END:VTIMEZONE
END:VCALENDAR