BEGIN:VCALENDAR
VERSION:2.0
PRODID:-//wp-events-plugin.com//7.2.3.1//EN
TZID:America/Kentucky/Louisville
X-WR-TIMEZONE:America/Kentucky/Louisville
BEGIN:VEVENT
UID:690@nkff.org
DTSTART;TZID=America/Kentucky/Louisville:20240801T170000
DTEND;TZID=America/Kentucky/Louisville:20240801T210000
DTSTAMP:20240729T220733Z
URL:https://nkff.org/events/monthly-meeting-2024-08-01/
SUMMARY:August Monthly Meeting
DESCRIPTION:August 1 meeting at Pioneer Park on Madison Pike. \n\nOur Annua
 l Fish Fry\, casting practice\, stream fishing\, and expecting a guest fro
 m Kentucky Fish &amp\; Wildlife for Q&amp\;A.\n\nIf you're a first time at
 tendee you are invited to attend as our guest\, please email by Monday nig
 ht and we'll get you on the list
ATTACH;FMTTYPE=image/jpeg:https://i0.wp.com/nkff.org/wp-content/uploads/20
 21/02/New-Logo-Featured-e1615768745433.png?fit=500%2C213&ssl=1
CATEGORIES:Meetings
LOCATION:Pioneer Park\, 3952 Madison Pk\, Covington\, KY\, 41017\, United S
 tates
GEO:39.002258;-84.538287
X-APPLE-STRUCTURED-LOCATION;VALUE=URI;X-ADDRESS=3952 Madison Pk\, Covington
 \, KY\, 41017\, United States;X-APPLE-RADIUS=100;X-TITLE=Pioneer Park:geo:
 39.002258,-84.538287
END:VEVENT
BEGIN:VTIMEZONE
TZID:America/Kentucky/Louisville
X-LIC-LOCATION:America/Kentucky/Louisville
BEGIN:DAYLIGHT
DTSTART:20240310T030000
TZOFFSETFROM:-0500
TZOFFSETTO:-0400
TZNAME:EDT
END:DAYLIGHT
END:VTIMEZONE
END:VCALENDAR