BEGIN:VCALENDAR
VERSION:2.0
PRODID:-//wp-events-plugin.com//7.2.3.1//EN
TZID:America/Kentucky/Louisville
X-WR-TIMEZONE:America/Kentucky/Louisville
BEGIN:VEVENT
UID:688@nkff.org
DTSTART;TZID=America/Kentucky/Louisville:20240606T170000
DTEND;TZID=America/Kentucky/Louisville:20240606T210000
DTSTAMP:20240526T032604Z
URL:https://nkff.org/events/monthly-meeting-2024-06-06/
SUMMARY:June Monthly Meeting
DESCRIPTION:Join us at the Main Shelter at Middleton Mills Park on the 6th 
 for a grill out and fishing.\n\nThe menu:\n\nHamburgers\nHot Dogs\nBaked B
 eans\nColeslaw\nPotato Salad\n\nAs usual we'll fish\, have some club annou
 ncements and then dinner\, followed by fishing until you've had enough fis
 hing. Or dark\, whichever comes first.\n\nThere is a hard deadline to regi
 ster for this meeting by 11:00PM on Monday the 3rd if you want to eat dinn
 er. Registrations after 11:00PM will be no meal option only.\n\nIf you're 
 a first time attendee you are invited to attend as our guest\, please emai
 l by Monday night and we'll get you on the list.
ATTACH;FMTTYPE=image/jpeg:https://i0.wp.com/nkff.org/wp-content/uploads/20
 21/02/cropped-New-Logo-Featured.png?fit=1030%2C438&ssl=1
CATEGORIES:Meetings
LOCATION:Middleton-Mills Park\, 3415 Mills Road\, Covington\, KY\, 41015\, 
 United States
GEO:38.948209;-84.492812
X-APPLE-STRUCTURED-LOCATION;VALUE=URI;X-ADDRESS=3415 Mills Road\, Covington
 \, KY\, 41015\, United States;X-APPLE-RADIUS=100;X-TITLE=Middleton-Mills P
 ark:geo:38.948209,-84.492812
END:VEVENT
BEGIN:VTIMEZONE
TZID:America/Kentucky/Louisville
X-LIC-LOCATION:America/Kentucky/Louisville
BEGIN:DAYLIGHT
DTSTART:20240310T030000
TZOFFSETFROM:-0500
TZOFFSETTO:-0400
TZNAME:EDT
END:DAYLIGHT
END:VTIMEZONE
END:VCALENDAR