BEGIN:VCALENDAR
VERSION:2.0
PRODID:-//wp-events-plugin.com//7.2.3.1//EN
TZID:America/Kentucky/Louisville
X-WR-TIMEZONE:America/Kentucky/Louisville
BEGIN:VEVENT
UID:581@nkff.org
DTSTART;TZID=America/Kentucky/Louisville:20231207T170000
DTEND;TZID=America/Kentucky/Louisville:20231207T210000
DTSTAMP:20231125T181932Z
URL:https://nkff.org/events/monthly-club-meeting-2023-12-07/
SUMMARY:Monthly Club Meeting
DESCRIPTION:Join us for an evening with author and NKFF Life Member Ron Ell
 is.\n\nRon Ellis\, a native Kentuckian\, is the author of Yonder\, Cogan
 ’s Woods\, and Brushes with Nature: The Art of Ron Van Gilder and edi
 tor of In That Sweet Country: Uncollected Writings of Harry Middleton an
 d Of Woods &amp\; Waters: A Kentucky Outdoors Reader. He is a contributor
  to the anthologies Afield: American Writers on Bird Dogs\, Astream: Amer
 ican Writers on Fly Fishing\, A Passion for Grouse: The Lore and Legend of
  America’s Premier Game Bird\, and The Gigantic Book of Hunting Storie
 s. His work has been published in Sporting Classics\, Kentucky Afield\, K
 entucky Monthly\, The Contemporary Sportsman\, and The Journal of Kentuck
 y Studies\, among others. He is the recipient of the Kentucky Arts Council
 ’s Al Smith Individual Artist Fellowship and Professional Assistance Awa
 rd.
ATTACH;FMTTYPE=image/jpeg:https://i0.wp.com/nkff.org/wp-content/uploads/20
 23/01/IMG_0334.jpeg?fit=612%2C802&ssl=1
CATEGORIES:Meetings
LOCATION:Florence Lion's Club\, 29 Lacresta\, Florence\, KY\, 41042\, Unite
 d States
GEO:38.97968300000001;-84.64029790000001
X-APPLE-STRUCTURED-LOCATION;VALUE=URI;X-ADDRESS=29 Lacresta\, Florence\, KY
 \, 41042\, United States;X-APPLE-RADIUS=100;X-TITLE=Florence Lion's Club:g
 eo:38.97968300000001,-84.64029790000001
END:VEVENT
BEGIN:VTIMEZONE
TZID:America/Kentucky/Louisville
X-LIC-LOCATION:America/Kentucky/Louisville
BEGIN:STANDARD
DTSTART:20231105T010000
TZOFFSETFROM:-0400
TZOFFSETTO:-0500
TZNAME:EST
END:STANDARD
END:VTIMEZONE
END:VCALENDAR