BEGIN:VCALENDAR
VERSION:2.0
PRODID:-//wp-events-plugin.com//7.2.3.1//EN
TZID:America/Kentucky/Louisville
X-WR-TIMEZONE:America/Kentucky/Louisville
BEGIN:VEVENT
UID:579@nkff.org
DTSTART;TZID=America/Kentucky/Louisville:20231005T170000
DTEND;TZID=America/Kentucky/Louisville:20231005T210000
DTSTAMP:20230928T205240Z
URL:https://nkff.org/events/monthly-club-meeting-2023-10-05/
SUMMARY:Monthly Club Meeting
DESCRIPTION:Jim Sauerheber has been an avid fisherman his whole life. He b
 egan fishing for crappie\, bass and bluegill as a young child. In early ad
 ulthood\, he picked up a fly rod and has been fly fishing ever since. His 
 home waters are the Cumberland and Barren Rivers. He also makes yearly fly
  fishing trips out to Arkansas\, Montana\, Colorado and Wyoming. In order 
 to share his knowledge and experience with others\, he began guiding in 20
 11 and started Cumberland Valley Fly Fishing guide service. Jim is excited
  about sharing his love for fly fishing with others!
ATTACH;FMTTYPE=image/jpeg:https://i0.wp.com/nkff.org/wp-content/uploads/20
 23/01/D0DB5A7A-7E73-488E-97AE-CF37FF3942BE.jpg?fit=600%2C450&ssl=1
CATEGORIES:Meetings
LOCATION:Florence Lion's Club\, 29 Lacresta\, Florence\, KY\, 41042\, Unite
 d States
GEO:38.97968300000001;-84.64029790000001
X-APPLE-STRUCTURED-LOCATION;VALUE=URI;X-ADDRESS=29 Lacresta\, Florence\, KY
 \, 41042\, United States;X-APPLE-RADIUS=100;X-TITLE=Florence Lion's Club:g
 eo:38.97968300000001,-84.64029790000001
END:VEVENT
BEGIN:VTIMEZONE
TZID:America/Kentucky/Louisville
X-LIC-LOCATION:America/Kentucky/Louisville
BEGIN:DAYLIGHT
DTSTART:20230312T030000
TZOFFSETFROM:-0500
TZOFFSETTO:-0400
TZNAME:EDT
END:DAYLIGHT
END:VTIMEZONE
END:VCALENDAR