BEGIN:VCALENDAR
VERSION:2.0
PRODID:-//wp-events-plugin.com//7.2.3.1//EN
TZID:America/Kentucky/Louisville
X-WR-TIMEZONE:America/Kentucky/Louisville
BEGIN:VEVENT
UID:759@nkff.org
DTSTART;TZID=America/Kentucky/Louisville:20250904T170000
DTEND;TZID=America/Kentucky/Louisville:20250904T210000
DTSTAMP:20250904T150533Z
URL:https://nkff.org/events/monthly-club-meeting-2-2025-09-04/
SUMMARY:Monthly Club Meeting - Low Country Boil
DESCRIPTION:Walter’s Famous Low Country Boil at New Day Ranch.  Only $12
 .00 since we do the cooking ourselves.   Feel free to come early to help
  set-up\, shuck corn\, clean potatoes\, set up raffle tables etc.  We wil
 l be joined again this year by the Kentucky Falconers who put on an intere
 sting program last year.
ATTACH;FMTTYPE=image/jpeg:https://i0.wp.com/nkff.org/wp-content/uploads/20
 25/08/food-at-a-low-country-boil-with-no-people-e1754882110902.jpeg?fit=60
 0%2C343&ssl=1
CATEGORIES:Meetings
LOCATION:New Day Ranch\, 14838 Rosenstiel Rd\, Verona\, KY\, 41092\, United
  States
GEO:38.823183;-84.667264
X-APPLE-STRUCTURED-LOCATION;VALUE=URI;X-ADDRESS=14838 Rosenstiel Rd\, Veron
 a\, KY\, 41092\, United States;X-APPLE-RADIUS=100;X-TITLE=New Day Ranch:ge
 o:38.823183,-84.667264
END:VEVENT
BEGIN:VTIMEZONE
TZID:America/Kentucky/Louisville
X-LIC-LOCATION:America/Kentucky/Louisville
BEGIN:DAYLIGHT
DTSTART:20250309T030000
TZOFFSETFROM:-0500
TZOFFSETTO:-0400
TZNAME:EDT
END:DAYLIGHT
END:VTIMEZONE
END:VCALENDAR