BEGIN:VCALENDAR
VERSION:2.0
PRODID:-//wp-events-plugin.com//7.2.3.1//EN
TZID:America/Kentucky/Louisville
X-WR-TIMEZONE:America/Kentucky/Louisville
BEGIN:VEVENT
UID:954@nkff.org
DTSTART;TZID=America/Kentucky/Louisville:20260710T101500
DTEND;TZID=America/Kentucky/Louisville:20260710T121500
DTSTAMP:20260415T193514Z
URL:https://nkff.org/events/kids-struggling-with-home-insecurity/
SUMMARY:Kids struggling with home insecurity
DESCRIPTION:Ages 10-12 20 kids Kids struggling with home insecurity\n\n2 gr
 oups of 10 will rotate to fishing
CATEGORIES:Meetings
LOCATION:New Day Ranch\, 14838 Rosenstiel Rd\, Verona\, KY\, 41092\, United
  States
GEO:38.823183;-84.667264
X-APPLE-STRUCTURED-LOCATION;VALUE=URI;X-ADDRESS=14838 Rosenstiel Rd\, Veron
 a\, KY\, 41092\, United States;X-APPLE-RADIUS=100;X-TITLE=New Day Ranch:ge
 o:38.823183,-84.667264
END:VEVENT
BEGIN:VTIMEZONE
TZID:America/Kentucky/Louisville
X-LIC-LOCATION:America/Kentucky/Louisville
BEGIN:DAYLIGHT
DTSTART:20260308T030000
TZOFFSETFROM:-0500
TZOFFSETTO:-0400
TZNAME:EDT
END:DAYLIGHT
END:VTIMEZONE
END:VCALENDAR