BEGIN:VCALENDAR
VERSION:2.0
PRODID:-//wp-events-plugin.com//7.2.3.1//EN
TZID:America/Kentucky/Louisville
X-WR-TIMEZONE:America/Kentucky/Louisville
BEGIN:VEVENT
UID:887@nkff.org
DTSTART;TZID=America/Kentucky/Louisville:20260702T170000
DTEND;TZID=America/Kentucky/Louisville:20260702T210000
DTSTAMP:20251230T205849Z
URL:https://nkff.org/events/june-club-meeting-2/
SUMMARY:July Club Meeting
DESCRIPTION:More details to follow
ATTACH;FMTTYPE=image/jpeg:https://i0.wp.com/nkff.org/wp-content/uploads/20
 24/10/site-logo.png?fit=866%2C438&ssl=1
CATEGORIES:Meetings
LOCATION:Pioneer Park\, 3952 Madison Pk\, Covington\, KY\, 41017\, United S
 tates
GEO:39.002258;-84.538287
X-APPLE-STRUCTURED-LOCATION;VALUE=URI;X-ADDRESS=3952 Madison Pk\, Covington
 \, KY\, 41017\, United States;X-APPLE-RADIUS=100;X-TITLE=Pioneer Park:geo:
 39.002258,-84.538287
END:VEVENT
BEGIN:VTIMEZONE
TZID:America/Kentucky/Louisville
X-LIC-LOCATION:America/Kentucky/Louisville
BEGIN:DAYLIGHT
DTSTART:20260308T030000
TZOFFSETFROM:-0500
TZOFFSETTO:-0400
TZNAME:EDT
END:DAYLIGHT
END:VTIMEZONE
END:VCALENDAR