BEGIN:VCALENDAR
VERSION:2.0
PRODID:-//wp-events-plugin.com//7.2.3.1//EN
TZID:America/Kentucky/Louisville
X-WR-TIMEZONE:America/Kentucky/Louisville
BEGIN:VEVENT
UID:548@nkff.org
DTSTART;TZID=America/Kentucky/Louisville:20230105T173000
DTEND;TZID=America/Kentucky/Louisville:20230105T213000
DTSTAMP:20230103T171931Z
URL:https://nkff.org/events/january-club-meeting-2/
SUMMARY:January 5th Club Meeting - I Know What You Did Last Summer: Recent 
 Tales of Rich &amp\; Kerry's Excellent Adventures
DESCRIPTION:I Know What You Did Last Summer:\nRecent Tales of Rich &amp\; K
 erry's Excellent Adventures\nRich and Kerry Premec began their fly fishing
  journey in October of 2015. While on a trip to Yellowstone National Park\
 , they witnessed the sport and art of fly anglers on rivers and streams. 
  Rich was intrigued decided to give it a try. He bought a cheap combo off 
 Amazon and took his first cast at a pond at Traditions Golf Club in Hebron
 \, KY. Within 10 seconds of his popper hitting the water\, a nice bass too
 k it and it was game on! After fishing for an hour he went back into the c
 lubhouse where he met someone who suggested he look into NKFF.\nRich atten
 ded his first meeting in January 2016 and has been a member since. Soon Ke
 rry started attending meetings and became hooked after a Cumberland River 
 float in October 2016. Over the last 7 years they both have increased thei
 r knowledge of the sport through the club\, fishing with guides and absorb
 ing as much as they can from podcasts and seminars. Today they consider th
 emselves “destination anglers” and average fishing in 8-12 states per 
 year.\nYou'll get plenty ideas for your own adventures from Rich &amp\; Ke
 rry's presentation.
ATTACH;FMTTYPE=image/jpeg:https://i0.wp.com/nkff.org/wp-content/uploads/20
 22/12/Web-Page-featured-image-1.png?fit=1030%2C438&ssl=1
CATEGORIES:Meetings
LOCATION:Florence Lion's Club\, 29 Lacresta\, Florence\, KY\, 41042\, Unite
 d States
GEO:38.97968300000001;-84.64029790000001
X-APPLE-STRUCTURED-LOCATION;VALUE=URI;X-ADDRESS=29 Lacresta\, Florence\, KY
 \, 41042\, United States;X-APPLE-RADIUS=100;X-TITLE=Florence Lion's Club:g
 eo:38.97968300000001,-84.64029790000001
END:VEVENT
BEGIN:VTIMEZONE
TZID:America/Kentucky/Louisville
X-LIC-LOCATION:America/Kentucky/Louisville
BEGIN:STANDARD
DTSTART:20221106T010000
TZOFFSETFROM:-0400
TZOFFSETTO:-0500
TZNAME:EST
END:STANDARD
END:VTIMEZONE
END:VCALENDAR