BEGIN:VCALENDAR
VERSION:2.0
PRODID:-//wp-events-plugin.com//7.2.3.1//EN
TZID:America/Kentucky/Louisville
X-WR-TIMEZONE:America/Kentucky/Louisville
BEGIN:VEVENT
UID:416@nkff.org
DTSTART;TZID=America/Kentucky/Louisville:20220203T190000
DTEND;TZID=America/Kentucky/Louisville:20220203T210000
DTSTAMP:20220121T155908Z
URL:https://nkff.org/events/february-online-club-meeting/
SUMMARY:February Online Club Meeting
DESCRIPTION:Fifty Fly Fishing Tips in Fifty Minutes\n\nDomenick Swentosky i
 s a father of two young boys\, a husband\, author\, fly fishing guide and 
 a musician. He fishes for wild brown trout in the cool limestone waters of
  Central Pennsylvania year round. Domenick says\, “This is my home\, and
  I love it. Friends. Family. And the river.”\n\nDomenick has become well
  known for his podcasts and his articles covering a wide variety of fly fi
 shing topics.  Check out this website “TROUTBITTEN”.\n\nThe Fifty Tip
 s presentation is for anglers of all skill levels and interests. The photo
 -packed offering covers the topics of gear\, efficiency\, fishing dries\, 
 nymphing\, fishing streamers\, fighting big fish and a lot more.\n\nThe pr
 esentation attempts to both inform anglers about how to catch more trout a
 nd inspire them to wade into a river and try something new. Ultimately\, t
 his series of tips is about how to better enjoy our time on the water.\n\n
 Fifty Tips moves fast\, covering a lot of ground. And all the tips are des
 igned to urge an angler to look deeper and get more from fly fishing.\n\nJ
 oin Zoom Meeting\nhttps://us06web.zoom.us/j/82945489412?pwd=NkZTZDF1U2NKKz
 RHMjZDQ2pUWnRwdz09\n\nMeeting ID: 829 4548 9412\nPasscode: 665473
ATTACH;FMTTYPE=image/jpeg:https://i0.wp.com/nkff.org/wp-content/uploads/20
 22/01/January-2022-Monthly-Meeting-Web-Page-Featured-Image.png?fit=1030%2C
 438&ssl=1
CATEGORIES:Meetings
END:VEVENT
BEGIN:VTIMEZONE
TZID:America/Kentucky/Louisville
X-LIC-LOCATION:America/Kentucky/Louisville
BEGIN:STANDARD
DTSTART:20211107T010000
TZOFFSETFROM:-0400
TZOFFSETTO:-0500
TZNAME:EST
END:STANDARD
END:VTIMEZONE
END:VCALENDAR