BEGIN:VCALENDAR
VERSION:2.0
PRODID:-//wp-events-plugin.com//7.2.3.1//EN
TZID:America/Kentucky/Louisville
X-WR-TIMEZONE:America/Kentucky/Louisville
BEGIN:VEVENT
UID:531@nkff.org
DTSTART;TZID=America/Kentucky/Louisville:20221026T183000
DTEND;TZID=America/Kentucky/Louisville:20221026T203000
DTSTAMP:20220907T213148Z
URL:https://nkff.org/events/conservation-committee-meeting-2/
SUMMARY:Conservation Committee Meeting
DESCRIPTION:NKFF Conservation Committee Meeting – 6:30-8:30PM at Kenton C
 ounty Library (Erlanger Branch) - 401 Kenton Lands Rd\, Erlanger\, KY)
CATEGORIES:Meetings
LOCATION:Kenton County Public Library - Erlanger Branch\, 401 Kenton Lands 
 Rd\, Erlanger\, KY\, 41018\, United States
GEO:39.0296591;-84.59387400000003
X-APPLE-STRUCTURED-LOCATION;VALUE=URI;X-ADDRESS=401 Kenton Lands Rd\, Erlan
 ger\, KY\, 41018\, United States;X-APPLE-RADIUS=100;X-TITLE=Kenton County 
 Public Library - Erlanger Branch:geo:39.0296591,-84.59387400000003
END:VEVENT
BEGIN:VTIMEZONE
TZID:America/Kentucky/Louisville
X-LIC-LOCATION:America/Kentucky/Louisville
BEGIN:DAYLIGHT
DTSTART:20220313T030000
TZOFFSETFROM:-0500
TZOFFSETTO:-0400
TZNAME:EDT
END:DAYLIGHT
END:VTIMEZONE
END:VCALENDAR