BEGIN:VCALENDAR
VERSION:2.0
PRODID:-//wp-events-plugin.com//7.2.3.1//EN
TZID:America/Kentucky/Louisville
X-WR-TIMEZONE:America/Kentucky/Louisville
BEGIN:VEVENT
UID:951@nkff.org
DTSTART;TZID=America/Kentucky/Louisville:20270727T180000
DTEND;TZID=America/Kentucky/Louisville:20270727T200000
DTSTAMP:20260407T163110Z
URL:https://nkff.org/events/boone-county-t-ballers-fishing-derby-england-i
 dlewild-2/
SUMMARY:Boone County T-Baller’s Fishing Derby @ England-Idlewild
DESCRIPTION:England-Idlewild Shelter #1 and the the two upper ponds  - (D 
 BOTTONI)\n\n6PM - 8PM
ATTACH;FMTTYPE=image/jpeg:https://i0.wp.com/nkff.org/wp-content/uploads/20
 24/11/logo-square-e1756265189846.png?fit=321%2C321&ssl=1
CATEGORIES:Kids Fishing Derby
LOCATION:England-Idlewild Ponds\, 5550 Idlewild Rd\, Burlington\, KY\, 4100
 5\, United States
GEO:39.035957;-84.730553
X-APPLE-STRUCTURED-LOCATION;VALUE=URI;X-ADDRESS=5550 Idlewild Rd\, Burlingt
 on\, KY\, 41005\, United States;X-APPLE-RADIUS=100;X-TITLE=England-Idlewil
 d Ponds:geo:39.035957,-84.730553
END:VEVENT
BEGIN:VTIMEZONE
TZID:America/Kentucky/Louisville
X-LIC-LOCATION:America/Kentucky/Louisville
BEGIN:DAYLIGHT
DTSTART:20270314T030000
TZOFFSETFROM:-0500
TZOFFSETTO:-0400
TZNAME:EDT
END:DAYLIGHT
END:VTIMEZONE
END:VCALENDAR