BEGIN:VCALENDAR
VERSION:2.0
PRODID:-//wp-events-plugin.com//7.2.3.1//EN
TZID:America/Kentucky/Louisville
X-WR-TIMEZONE:America/Kentucky/Louisville
BEGIN:VEVENT
UID:879@nkff.org
DTSTART;TZID=America/Kentucky/Louisville:20260211T190000
DTEND;TZID=America/Kentucky/Louisville:20260211T210000
DTSTAMP:20251230T202651Z
URL:https://nkff.org/events/board-of-directors-meeting-3-2026-02-11/
SUMMARY:Board of Directors Meeting
DESCRIPTION:More details to follow
ATTACH;FMTTYPE=image/jpeg:https://i0.wp.com/nkff.org/wp-content/uploads/20
 24/10/site-logo.png?fit=866%2C438&ssl=1
CATEGORIES:Meetings
LOCATION:GBBN\, 332 East 8th St\, Cincinnati\, OH\, 45202\, United States
GEO:39.105491;-84.507549
X-APPLE-STRUCTURED-LOCATION;VALUE=URI;X-ADDRESS=332 East 8th St\, Cincinnat
 i\, OH\, 45202\, United States;X-APPLE-RADIUS=100;X-TITLE=GBBN:geo:39.1054
 91,-84.507549
END:VEVENT
BEGIN:VTIMEZONE
TZID:America/Kentucky/Louisville
X-LIC-LOCATION:America/Kentucky/Louisville
BEGIN:STANDARD
DTSTART:20251102T010000
TZOFFSETFROM:-0400
TZOFFSETTO:-0500
TZNAME:EST
END:STANDARD
END:VTIMEZONE
END:VCALENDAR