BEGIN:VCALENDAR
VERSION:2.0
PRODID:-//wp-events-plugin.com//7.2.3.1//EN
TZID:America/Kentucky/Louisville
X-WR-TIMEZONE:America/Kentucky/Louisville
BEGIN:VEVENT
UID:888@nkff.org
DTSTART;TZID=America/Kentucky/Louisville:20261203T170000
DTEND;TZID=America/Kentucky/Louisville:20261203T210000
DTSTAMP:20251230T210248Z
URL:https://nkff.org/events/august-club-meeting/
SUMMARY:December Club Meeting
DESCRIPTION:More details to follow
ATTACH;FMTTYPE=image/jpeg:https://i0.wp.com/nkff.org/wp-content/uploads/20
 24/10/site-logo.png?fit=866%2C438&ssl=1
CATEGORIES:Meetings
LOCATION:Florence Lion's Club\, 29 Lacresta\, Florence\, KY\, 41042\, Unite
 d States
GEO:38.97968300000001;-84.64029790000001
X-APPLE-STRUCTURED-LOCATION;VALUE=URI;X-ADDRESS=29 Lacresta\, Florence\, KY
 \, 41042\, United States;X-APPLE-RADIUS=100;X-TITLE=Florence Lion's Club:g
 eo:38.97968300000001,-84.64029790000001
END:VEVENT
BEGIN:VTIMEZONE
TZID:America/Kentucky/Louisville
X-LIC-LOCATION:America/Kentucky/Louisville
BEGIN:STANDARD
DTSTART:20261101T010000
TZOFFSETFROM:-0400
TZOFFSETTO:-0500
TZNAME:EST
END:STANDARD
END:VTIMEZONE
END:VCALENDAR